BEGIN:VCALENDAR
VERSION:2.0
PRODID:-//Maine Solar Solutions - ECPv6.15.20//NONSGML v1.0//EN
CALSCALE:GREGORIAN
METHOD:PUBLISH
X-WR-CALNAME:Maine Solar Solutions
X-ORIGINAL-URL:https://mainesolarsolutions.com
X-WR-CALDESC:Events for Maine Solar Solutions
REFRESH-INTERVAL;VALUE=DURATION:PT1H
X-Robots-Tag:noindex
X-PUBLISHED-TTL:PT1H
BEGIN:VTIMEZONE
TZID:America/New_York
BEGIN:DAYLIGHT
TZOFFSETFROM:-0500
TZOFFSETTO:-0400
TZNAME:EDT
DTSTART:20230312T070000
END:DAYLIGHT
BEGIN:STANDARD
TZOFFSETFROM:-0400
TZOFFSETTO:-0500
TZNAME:EST
DTSTART:20231105T060000
END:STANDARD
BEGIN:DAYLIGHT
TZOFFSETFROM:-0500
TZOFFSETTO:-0400
TZNAME:EDT
DTSTART:20240310T070000
END:DAYLIGHT
BEGIN:STANDARD
TZOFFSETFROM:-0400
TZOFFSETTO:-0500
TZNAME:EST
DTSTART:20241103T060000
END:STANDARD
BEGIN:DAYLIGHT
TZOFFSETFROM:-0500
TZOFFSETTO:-0400
TZNAME:EDT
DTSTART:20250309T070000
END:DAYLIGHT
BEGIN:STANDARD
TZOFFSETFROM:-0400
TZOFFSETTO:-0500
TZNAME:EST
DTSTART:20251102T060000
END:STANDARD
END:VTIMEZONE
BEGIN:VEVENT
DTSTART;TZID=America/New_York:20241006T100000
DTEND;TZID=America/New_York:20241006T140000
DTSTAMP:20260421T010143
CREATED:20240903T153439Z
LAST-MODIFIED:20240903T153444Z
UID:8452-1728208800-1728223200@mainesolarsolutions.com
SUMMARY:Sustainable Scarborough Day
DESCRIPTION:Celebrate being green in your community! The Town of Scarborough is hosting its second annual Sustainable Scarborough Day\, bringing together everyone from the environmentally conscious to the eco-curious for a day of learning and fun.  \n\n\n\nMeet with experts\, local businesses\, nonprofits\, and enthusiasts on topics ranging from sustainable living\, efficient homes\, transportation\, landscapes\, recreation\, waste management\, land conservation\, and climate action. We will be there answering all of your questions about solar!!  \n\n\n\nAll activities will be based at Wentworth School. Test drive an electric vehicle\, listen to some live music\, attend a workshop\, do a fun\, hands-on activity\, and learn from experts. \n\n\n\nThis is a family-friendly event with activities for all ages!
URL:https://mainesolarsolutions.com/event/sustainable-scarborough-day/
LOCATION:Wentworth School\, 20 Quentin Drive\, Scarborough\, Maine
ATTACH;FMTTYPE=:
END:VEVENT
BEGIN:VEVENT
DTSTART;TZID=America/New_York:20241025T191500
DTEND;TZID=America/New_York:20241025T230000
DTSTAMP:20260421T010143
CREATED:20241210T182859Z
LAST-MODIFIED:20241210T182910Z
UID:8640-1729883700-1729897200@mainesolarsolutions.com
SUMMARY:Maine Solar Solutions @ the Maine Mariners!
DESCRIPTION:Join Maine Solar Solutions for a night of fun and cheer on the Maine Mariners! Find our table at the big game to get answers to all your questions on solar\, home energy\, and more! Catch our fun half-time promo showcasing our awesome team and even see a familiar face
URL:https://mainesolarsolutions.com/event/maine-solar-solutions-the-maine-mariners/
LOCATION:Maine
ATTACH;FMTTYPE=:
END:VEVENT
END:VCALENDAR