BEGIN:VCALENDAR
VERSION:2.0
PRODID:-//Maine Solar Solutions - ECPv6.15.20//NONSGML v1.0//EN
CALSCALE:GREGORIAN
METHOD:PUBLISH
X-ORIGINAL-URL:https://mainesolarsolutions.com
X-WR-CALDESC:Events for Maine Solar Solutions
REFRESH-INTERVAL;VALUE=DURATION:PT1H
X-Robots-Tag:noindex
X-PUBLISHED-TTL:PT1H
BEGIN:VTIMEZONE
TZID:America/New_York
BEGIN:DAYLIGHT
TZOFFSETFROM:-0500
TZOFFSETTO:-0400
TZNAME:EDT
DTSTART:20230312T070000
END:DAYLIGHT
BEGIN:STANDARD
TZOFFSETFROM:-0400
TZOFFSETTO:-0500
TZNAME:EST
DTSTART:20231105T060000
END:STANDARD
BEGIN:DAYLIGHT
TZOFFSETFROM:-0500
TZOFFSETTO:-0400
TZNAME:EDT
DTSTART:20240310T070000
END:DAYLIGHT
BEGIN:STANDARD
TZOFFSETFROM:-0400
TZOFFSETTO:-0500
TZNAME:EST
DTSTART:20241103T060000
END:STANDARD
BEGIN:DAYLIGHT
TZOFFSETFROM:-0500
TZOFFSETTO:-0400
TZNAME:EDT
DTSTART:20250309T070000
END:DAYLIGHT
BEGIN:STANDARD
TZOFFSETFROM:-0400
TZOFFSETTO:-0500
TZNAME:EST
DTSTART:20251102T060000
END:STANDARD
END:VTIMEZONE
BEGIN:VEVENT
DTSTART;TZID=America/New_York:20240911T110000
DTEND;TZID=America/New_York:20240911T150000
DTSTAMP:20260420T214622
CREATED:20240823T130608Z
LAST-MODIFIED:20240830T132338Z
UID:8189-1726052400-1726066800@mainesolarsolutions.com
SUMMARY:Solar Open House at Replenova Farms
DESCRIPTION:Interested in learning how solar energy can benefit your farm\, home\, or business? Come participate in a special open house at Replenova Farms and discover how local businesses work with Maine Solar Solutions to help reduce carbon emissions and save on their monthly electric bill! Enjoy samples of local produce and hear first-hand testimonies on going solar from Replenova’s owner\, Gary Goodrich\, and our knowledgeable staff!\n\n\n\n\nTo Learn More About Maine Solar Solutions Or Going Solar\, Click Here.
URL:https://mainesolarsolutions.com/event/solar-open-house-at-replenova-farms/
LOCATION:Replenova Farms\, 1252 Royalsborough Rd\, Durham\, ME 04222
ATTACH;FMTTYPE=:
ORGANIZER;CN="Maine Solar Solutions":MAILTO:nate.c@mainesolardev.wpenginepowered.com
END:VEVENT
END:VCALENDAR