BEGIN:VCALENDAR
VERSION:2.0
PRODID:-//Maine Solar Solutions - ECPv6.15.20//NONSGML v1.0//EN
CALSCALE:GREGORIAN
METHOD:PUBLISH
X-WR-CALNAME:Maine Solar Solutions
X-ORIGINAL-URL:https://mainesolarsolutions.com
X-WR-CALDESC:Events for Maine Solar Solutions
REFRESH-INTERVAL;VALUE=DURATION:PT1H
X-Robots-Tag:noindex
X-PUBLISHED-TTL:PT1H
BEGIN:VTIMEZONE
TZID:UTC
BEGIN:STANDARD
TZOFFSETFROM:+0000
TZOFFSETTO:+0000
TZNAME:UTC
DTSTART:20230101T000000
END:STANDARD
END:VTIMEZONE
BEGIN:VEVENT
DTSTART;TZID=UTC:20240606T080000
DTEND;TZID=UTC:20240606T160000
DTSTAMP:20260424T074226
CREATED:20240702T190534Z
LAST-MODIFIED:20240702T190535Z
UID:7879-1717660800-1717689600@mainesolarsolutions.com
SUMMARY:BUILD Maine Conference 2024
DESCRIPTION:Maine Solar Solutions was excited to be a sponsor of this years BUILD Maine Conference to connect with builders\, developers\, and industry leaders around the state. According to Build Maine\, “This collaborative event is intended to showcase international\, national\, and local best-practices and provide an opportunity for cross-disciplinary conversations amongst all the people involved in the work of building Maine.” Our team was excited to chat with attendees and answer questions on how Maine Solar Solutions makes integrating solar into new construction projects efficient and easy!
URL:https://mainesolarsolutions.com/event/build-maine-conference-2024/
LOCATION:185 Water St. Skowhegan\, ME 04976
ATTACH;FMTTYPE=image/jpeg:https://mainesolarsolutions.com/wp-content/uploads/Image_20240607_090152_963-scaled.jpeg
ORGANIZER;CN="Build Maine":MAILTO:connect@build-maine.com
END:VEVENT
END:VCALENDAR